BEGIN:VCALENDAR
VERSION:2.0
PRODID:-//Tukios.com/
BEGIN:VEVENT
UID:9ba4f16d-670a-41cf-94b6-32d94d81b986@www.maglebymortuary.com
DTSTAMP:20260422T013717Z
DTSTART:20260502T170000Z
DTEND:20260502T180000Z
SUMMARY:Graveside Service
DESCRIPTION:
URL:https://www.maglebymortuary.com/obituaries/bonnie-hansen
LOCATION:Ephraim Park Cemetery 650 N Main St  Ephraim UT 84627
GEO:39.3718597;-111.5866552
END:VEVENT
END:VCALENDAR