BEGIN:VCALENDAR
VERSION:2.0
PRODID:-//Tukios.com/
BEGIN:VEVENT
UID:ae432075-a395-4e5c-9d9a-a49ecae78492@www.maglebymortuary.com
DTSTAMP:20260421T031253Z
DTSTART:20260425T173000Z
DTEND:20260425T183000Z
SUMMARY:Viewing
DESCRIPTION:
URL:https://www.maglebymortuary.com/obituaries/lenna-romine
LOCATION:The Church of Jesus Christ of Latter-day Saints 195 W 200 S St  
	Circleville UT 84723
GEO:38.1679954;-112.2778
END:VEVENT
END:VCALENDAR