BEGIN:VCALENDAR
VERSION:2.0
PRODID:-//Tukios.com/
BEGIN:VEVENT
UID:9a3cbf99-e762-4c58-b7c3-1087d7c3414e@www.maglebymortuary.com
DTSTAMP:20260421T030922Z
DTSTART:20260425T190000Z
DTEND:20260425T200000Z
SUMMARY:Funeral Service
DESCRIPTION:
URL:https://www.maglebymortuary.com/obituaries/lenna-romine
LOCATION:The Church of Jesus Christ of Latter-day Saints 195 W 200 S St  
	Circleville UT 84723
GEO:38.1679954;-112.2778
END:VEVENT
END:VCALENDAR