BEGIN:VCALENDAR
VERSION:2.0
PRODID:-//Tukios.com/
BEGIN:VEVENT
UID:83d54d72-fd62-4f86-8f24-a69450885cef@www.maglebymortuary.com
DTSTAMP:20260421T031101Z
DTSTART:20260425
SUMMARY:Burial
DESCRIPTION:
URL:https://www.maglebymortuary.com/obituaries/lenna-romine
LOCATION: 38.179030, -112.282759  Circleville UT 84723
GEO:38.1716447;-112.2704819
END:VEVENT
END:VCALENDAR